BEGIN:VCALENDAR
VERSION:2.0
PRODID:-//Octubre Centre de Cultura Contemporània - ECPv5.1.6//NONSGML v1.0//EN
CALSCALE:GREGORIAN
METHOD:PUBLISH
X-WR-CALNAME:Octubre Centre de Cultura Contemporània
X-ORIGINAL-URL:https://octubre.cat
X-WR-CALDESC:Events for Octubre Centre de Cultura Contemporània
BEGIN:VTIMEZONE
TZID:Europe/Andorra
BEGIN:DAYLIGHT
TZOFFSETFROM:+0100
TZOFFSETTO:+0200
TZNAME:CEST
DTSTART:20090329T010000
END:DAYLIGHT
BEGIN:STANDARD
TZOFFSETFROM:+0200
TZOFFSETTO:+0100
TZNAME:CET
DTSTART:20091025T010000
END:STANDARD
END:VTIMEZONE
BEGIN:VEVENT
DTSTART;TZID=Europe/Andorra:20090303T000000
DTEND;TZID=Europe/Andorra:20090426T000000
DTSTAMP:20260422T171339
CREATED:20200729T182333Z
LAST-MODIFIED:20200829T105428Z
UID:12771-1236038400-1240704000@octubre.cat
SUMMARY:80 Anys amb els Germans Marx
DESCRIPTION:Cartells\, fotografies\, discos\, programes de mà\, llibres\, guions\, autògrafs i fins i tot els testaments dels genials artistes\, en el 80 aniversari de la seua primera pel·lícula. Prorrogada fins el 26 d’abril de 2009! \nEl dia 3 d’agost de l’any 1929\, la Paramount va estrenar The Cocoanuts\, “Els Quatre Cocos”\, la primera pel·lícula dels Germans Marx. La irrupció de Groucho\, Harpo\, Chico i Zeppo en el món del cinema\, després del seu aprenentatge en el teatre i el vodevil\, va ser demolidora. Fins aleshores mai ningú havia esgrimit un humor tan corrosiu i que abastara registres artístics tan diversos: del musical al social\, del polític al satíric. Han passat 80 anys i l’humor dels Germans Marx no ha perdut ni una mica de la seua mordacitat. Les seues tretze pel·lícules principals\, des de The Cocoanuts a Love Happy (Amor en Conserva)\, estrenada el dia 3 de març de l’any 1950\, són tan actuals com el primer dia i el seu llegat continua sent més que vàlid. Aquesta exposició ret homenatge a la personalitat dels Germans Marx i celebra una herència sense data de caducitat perquè\, com va dir en el seu dia Groucho\, “la raó per la qual al públic li agrada veure’ns executar la més mínima bajanada que se’ns acudeix és molt senzilla. És perquè totes les persones normals voldrien fer de tant en tant coses semblants”. En altres paraules\, després de vuitanta anys tots som ja una mica com els Germans Marx. Que vostès en gaudisquen. Jordi Tardà \nUn producció de l’Octubre CCC amb la Col·lecció Jordi Tardà
URL:https://octubre.cat/activitat/80-anys-amb-els-germans-marx/
LOCATION:No definit
CATEGORIES:Exposicions
ATTACH;FMTTYPE=image/jpeg:https://octubre.cat/www/wp-content/uploads/2020/07/activitat796.jpg
END:VEVENT
END:VCALENDAR