BEGIN:VCALENDAR
VERSION:2.0
PRODID:-//Octubre Centre de Cultura Contemporània - ECPv5.1.6//NONSGML v1.0//EN
CALSCALE:GREGORIAN
METHOD:PUBLISH
X-WR-CALNAME:Octubre Centre de Cultura Contemporània
X-ORIGINAL-URL:https://octubre.cat
X-WR-CALDESC:Events for Octubre Centre de Cultura Contemporània
BEGIN:VTIMEZONE
TZID:Europe/Andorra
BEGIN:DAYLIGHT
TZOFFSETFROM:+0100
TZOFFSETTO:+0200
TZNAME:CEST
DTSTART:20110327T010000
END:DAYLIGHT
BEGIN:STANDARD
TZOFFSETFROM:+0200
TZOFFSETTO:+0100
TZNAME:CET
DTSTART:20111030T010000
END:STANDARD
END:VTIMEZONE
BEGIN:VEVENT
DTSTART;TZID=Europe/Andorra:20111007T190000
DTEND;TZID=Europe/Andorra:20111007T190000
DTSTAMP:20260421T035247
CREATED:20200729T165413Z
LAST-MODIFIED:20200830T090348Z
UID:9154-1318014000-1318014000@octubre.cat
SUMMARY:70 anys amb el Capità Haddock
DESCRIPTION:Divendres 7 d’octubre\, a les 19.00h: Conversa amb Jordi Tardà i estrena mundial de l’espectacle de titelles “Haddock guanya la grossa!”\, d’Yves Duval\, a càrrec de la Companyia d’Edu Borja. Apte només per a ectoplasmes\, trossos de quòniam\, nyèbits de catacròlics\, nap bufs i espolsasacs. \nEnguany se celebra el 70é aniversari de l’aparició del Capità Haddock a les aventures de Tintin\, del genial Hergé. Amb aquest motiu\, el periodista i col·leccionista Jordi Tardà realitzarà una conferència evocativa de l’entranyable personatge\, bevedor i malparlat\, que aparegué per primera vegada a l’àlbum “El cranc de les pinces d’or” (Soir Jeunesse\, 1941). Recordem que l’Octubre CCC ja va presentar l’any 2008 l’exposició “Tintín en el món d’Hergé”\, amb un grandíssim èxit de públic i basada precisament en la col·lecció de Tardà. \nDesprés de la conversa amb el periodista\, es posarà en escena\, per primera vegada en el món\, l’obra per a titelles “Haddock guanya la grossa!”. Aquesta obreta inèdita (que es representarà amb titelles originals dels estudis Hergé) va ser escrita per Yves Duval\, periodista\, cineasta\, fotògraf i guionista habitual de revistes com Tintin\, Pilote\, Eppo\, Spirou\, etc. Nascut el 1934 a la població belga d’Etterbeek (el mateix lloc on va nàixer Hergé)\, va treballar per a il·lustradors tan importants com el propi Hergé -de qui va ser molt amic i un gran col·laborador-\, Raymond Reding\, Tibet\, René Follet\, Albert Weinberg o William Vance\, tot creant personatges tan coneguts com “Rataplan” o “Doc Silver” o realitzant biografies com la del ciclista Eddy Merckx. Duval va morir el 2009\, tot just després d’haver publicat les seues memòries. \nAquesta petita però deliciosa obreta teatral és una troballa inèdita de Jordi Tardà que\, fent valer la seua experiència com a col·leccionista\, va poder localitzar el mecanoscrit original quan ningú no sabia de la seua existència. \nLa representació de l’obra anirà a càrrec de la Companyia d’Edu Borja\, una de les més prestigioses i més actives del País Valencià\, i s’acompanyarà amb una mini-exposició d’elements escenogràfics creats pel propi Hergé i els seus amics\, com ara el teatret de joguina que va produir el 1960 o la titella artesanal de Tintín creada per Robert Cartelli per al Théâtre Polichinelle el 1932\, quan només havien aparegut els tres primers àlbums de la sèrie. \nL’acte serà presentat pel crític i divulgador del còmic Álvaro Pons. Per als amants del còmic en general però especialment per als fans de Tintín\, aquesta és realment una ocasió històrica per a retrobar-nos amb els seus inoblidables personatges i\, més que cap altre\, amb l’extraordinari Capità Haddock: llamp de llamps! \nUna producció de l’Octubre CCC.
URL:https://octubre.cat/activitat/70-anys-amb-el-capita-haddock/
LOCATION:Hall
CATEGORIES:Literatura,Teatre
ATTACH;FMTTYPE=image/jpeg:https://octubre.cat/www/wp-content/uploads/2020/07/activitat1378.jpg
END:VEVENT
END:VCALENDAR