BEGIN:VCALENDAR
VERSION:2.0
PRODID:-//Octubre Centre de Cultura Contemporània - ECPv5.1.6//NONSGML v1.0//EN
CALSCALE:GREGORIAN
METHOD:PUBLISH
X-WR-CALNAME:Octubre Centre de Cultura Contemporània
X-ORIGINAL-URL:https://octubre.cat
X-WR-CALDESC:Events for Octubre Centre de Cultura Contemporània
BEGIN:VTIMEZONE
TZID:Europe/Andorra
BEGIN:DAYLIGHT
TZOFFSETFROM:+0100
TZOFFSETTO:+0200
TZNAME:CEST
DTSTART:20080330T010000
END:DAYLIGHT
BEGIN:STANDARD
TZOFFSETFROM:+0200
TZOFFSETTO:+0100
TZNAME:CET
DTSTART:20081026T010000
END:STANDARD
END:VTIMEZONE
BEGIN:VEVENT
DTSTART;TZID=Europe/Andorra:20080131T200000
DTEND;TZID=Europe/Andorra:20080131T200000
DTSTAMP:20260420T232812
CREATED:20200729T181633Z
LAST-MODIFIED:20200730T035549Z
UID:12439-1201809600-1201809600@octubre.cat
SUMMARY:4x4: Manolo Tarancón
DESCRIPTION:Dijous 31\, 20.00h.  Admirador d’artistes consolidats com Enrique Urquijo\, Andrés Calamaro\, Ryan Adams\, Dylan\, Neil Young o Mark Knopfler. Manolo s’apropa més a la figura de cantautor anglo-saxó o nord-americà que a la concepció clàssica del terme\, amb clares influències del folk i del country dels darrers anys.  \n  \n  \n\nAdmirador d’artistes consolidats com Enrique Urquijo\, Andrés Calamaro\, Ryan Adams\, Dylan\, Neil Young o Mark Knopfler. Manolo s’apropa més a la figura de cantautor anglo-saxó o nord-americà que a la concepció clàssica del terme\, amb clares influències del folk i del country dels darrers anys. Les seues influències musicals també es nodreixen d’altres disciplines como la literatura o el cinema. Manolo Tarancón té editat un LP Desde mi interior i actualment ja ha gravat el seu segon disc\, dotze temes que veuran la llum molt prompte sota el títol Más allá de uno mismo\, on col·labora Nacho Vegas amb un duet en un dels temes\, titulat Super 8.
URL:https://octubre.cat/activitat/4x4-manolo-tarancon/
LOCATION:No definit
CATEGORIES:Cicle de música pop
ATTACH;FMTTYPE=image/jpeg:https://octubre.cat/www/wp-content/uploads/2020/07/musica1.jpg
END:VEVENT
END:VCALENDAR