BEGIN:VCALENDAR
VERSION:2.0
PRODID:-//Octubre Centre de Cultura Contemporània - ECPv5.1.6//NONSGML v1.0//EN
CALSCALE:GREGORIAN
METHOD:PUBLISH
X-WR-CALNAME:Octubre Centre de Cultura Contemporània
X-ORIGINAL-URL:https://octubre.cat
X-WR-CALDESC:Events for Octubre Centre de Cultura Contemporània
BEGIN:VTIMEZONE
TZID:Europe/Andorra
BEGIN:DAYLIGHT
TZOFFSETFROM:+0100
TZOFFSETTO:+0200
TZNAME:CEST
DTSTART:20090329T010000
END:DAYLIGHT
BEGIN:STANDARD
TZOFFSETFROM:+0200
TZOFFSETTO:+0100
TZNAME:CET
DTSTART:20091025T010000
END:STANDARD
END:VTIMEZONE
BEGIN:VEVENT
DTSTART;TZID=Europe/Andorra:20090227T200000
DTEND;TZID=Europe/Andorra:20090228T000000
DTSTAMP:20260422T154804
CREATED:20200729T182311Z
LAST-MODIFIED:20200729T182311Z
UID:12752-1235764800-1235779200@octubre.cat
SUMMARY:4podofestival
DESCRIPTION:27 i 28 de febrer\, a les 20h: Emma Wet Gild + Lülla + Nèstor Mir & Las Potencias del Este + Senior  \n  \n  \n\nEl festival 4podo itinerant és una metàfora orgànica: 4 propostes amb un mateix cos; 4 idees amb un mateix objectiu; 4 estils musicals que es fusionen en un. 4podo són 4 bandes que sumen les seues propostes per crear una filosofia\, un punt de vista i un espai. 4 camins\, 4 carreres\, 4 autopistes que es fonen en un tot\, que convergeixen en un mateix escenari i espectacle\, compartint músics\, instruments\, cançons\, textures i oferint el públic una nova idea. El festival 4podo itinerant és com un gran circ que ara està ací i demà allà i que tot i comptar amb els mateixos artistes\, el resultat sempre és diferent. Senyores\, senyors\, 4podo presenta música amb quatre peus i un cap: passen\, vegen\, escolten i vibren.   Emma Get Wild (València/Londres) Iniciaren la seua trajectòria el 2003 amb el rock independent actual com a referent. “Hey Hurricane” (Junk records i Clippers S.L.\, 2006) fou el seu primer disc. Ara presenten “These are the sounds that make the animals”.   Lülla (València) Treballen a partir de sessions d’improvisació\, cada músic centrat en el seu instrument. Els textos són com polaroids del sentiment. El resultat\, pop rock alternatiu. La seua música és un mitjà d’expressió i una finalitat per ella mateixa.   Nèstor Mir & las Potencias del Este (València) M fou el seu pseudònim fins que el 2006 va presentar el seu darrer treball\, “De l’amour à l’abîme”. Amb las Potencias del Este\, el veterà músic valencià ha consolidat una nova banda que barreja rock\, folk i altres sons experimentals.   Senior (València) “Parir cançons\, això és el que faig. Ser honest amb mi mateix i amb tot el que m’envolta. Reconstruir-me\, aconseguir la plenitud. Parir cançons\, això és el que faig”.
URL:https://octubre.cat/activitat/4podofestival/
LOCATION:No definit
CATEGORIES:Música
ATTACH;FMTTYPE=image/jpeg:https://octubre.cat/www/wp-content/uploads/2020/07/activitat777.jpg
END:VEVENT
END:VCALENDAR