BEGIN:VCALENDAR
VERSION:2.0
PRODID:-//Octubre Centre de Cultura Contemporània - ECPv5.1.6//NONSGML v1.0//EN
CALSCALE:GREGORIAN
METHOD:PUBLISH
X-WR-CALNAME:Octubre Centre de Cultura Contemporània
X-ORIGINAL-URL:https://octubre.cat
X-WR-CALDESC:Events for Octubre Centre de Cultura Contemporània
BEGIN:VTIMEZONE
TZID:Europe/Andorra
BEGIN:DAYLIGHT
TZOFFSETFROM:+0100
TZOFFSETTO:+0200
TZNAME:CEST
DTSTART:20180325T010000
END:DAYLIGHT
BEGIN:STANDARD
TZOFFSETFROM:+0200
TZOFFSETTO:+0100
TZNAME:CET
DTSTART:20181028T010000
END:STANDARD
END:VTIMEZONE
BEGIN:VEVENT
DTSTART;TZID=Europe/Andorra:20180623T000000
DTEND;TZID=Europe/Andorra:20180625T000000
DTSTAMP:20260421T084954
CREATED:20200729T173046Z
LAST-MODIFIED:20200729T190852Z
UID:11228-1529712000-1529884800@octubre.cat
SUMMARY:33 Cinema Jove
DESCRIPTION:Festival Internacional de Cinema de València. Secció oficial de websèries digitals a l’Octubre CCC el 23 i 24 de juny.	 \n  \n  \n\n 	 El FESTIVAL INTERNACIONAL DE CINEMA DE VALÈNCIA – CINEMA JOVE celebra la seua edició número 33 del 22 al 29 de juny de 2018. El festival continua amb el seu objectiu de promocionar als joves cineastes\, per la qual cosa es limita la franja d’edat dels participants en Secció Oficial a 40 anys. La nova etapa de Cinema Jove vol tornar al caràcter jove del festival de totes les persones que ho formen: professionals\, públic i cineastes.  Les diverses seccions del festival tindran lloc a diversos espais de la ciutat de València (Filmoteca\, Centre del Carme\, Col·legi Major Rector Peset\, etc.).  Cinema Jove\, atenent a l’impacte tecnològic en el sector audiovisual\, segueix incloent per tercer any consecutiu una secció oficial competitiva dedicada a les websèries digitals\, secció que tindrà lloc al nostre centre.   Programa de la secció de Websèries (a l’Octubre CCC)   Dissabte 23 de juny  11.10 h PRESENTACIÓ DE LA PLATAFORMA DIGITAL PLAYZ (TVE) I PROJECCIÓ DE LIMBO  12.00 h Trobada amb el públic  13.00 h TAULA REDONA Contingut digital USA vs Espanya (Warner vs PLAYZ) Lance Sloane (director de Warner Bros. Digital-Blue Ribbon Content) Alberto Fernández (subdirector de continguts i Transmèdia de PLAYZ- RTVE)  17.00 h Projecció Secció Oficial + Trobada amb el públic Nemausus Recursos Humanos Alone  18.00 h MICROCÀPSULA FORMATIVA: Influencer vs. creador de websèrie  Luke Eve (creador de contingut digital) Chus Gutierrez (directora i guionista de cine) Álvaro Krusse (influencer)  18.45 h Projecció Secció Oficial + Trobada amb el públic Tous Zombies Jade of Death This is Desmondo Ray Lampenfieber  20.00 h MICROCÀPSULA FORMATIVA: Arriba més lluny amb el teu pitching  Clara Montesinos (CMO d’Infuencity) Dani Sánchez (CEO d’Influencity)   diumenge 24 de juny   11.00h. PRESENTACIÓ I PROJECCIÓ DE HIGH LIFE\, WEBSÈRIE guanyadora del WSWC 2017  Amb Luke Eve (director i productor de High Life) i Joël Bassaget (fundador de Web Series World Cup).  12.00h  Trobada amb el públic  13.00 h TAULA REDONDA València aposta per websèries Pepa Jordá (Valencia Film Office) Jose Luis Moreno (Subdirector d’Audiovisuals-IVC) César Martí (Director de Continguts d’À Punt)  17.00 h Projecció Secció Oficial + Trobada amb el públic Hotel Romanov Gimel Dorien  18.00 h MICROCÀPSULA FORMATIVA: Guia completa per a la teua estratègia en festivals Joël Bassaget (fundador de WSWC i editor de Web Series Mag / Digital Reporter. (TRAE PPT))  18:45 h Projecció Secció Oficial + Trobada amb el públic Jingleros Homesick Asänsor  20.00 h MICROCÀPSULA FORMATIVA: Llança’t al mercat asiàtic Young Man Kang (Fundador i Director de Seoul Webfest i Asia Web Awards)  — Cinema Jove Organitzat per l’Institut Valencià de Cultura / Generalitat Valenciana amb el patrocini de l’Ajuntament de València i la Diputació de València
URL:https://octubre.cat/activitat/33-cinema-jove/
LOCATION:Sala d’actes
CATEGORIES:Cinema
ATTACH;FMTTYPE=image/jpeg:https://octubre.cat/www/wp-content/uploads/2020/07/activitat3068.jpg
END:VEVENT
END:VCALENDAR