BEGIN:VCALENDAR
VERSION:2.0
PRODID:-//Octubre Centre de Cultura Contemporània - ECPv5.1.6//NONSGML v1.0//EN
CALSCALE:GREGORIAN
METHOD:PUBLISH
X-WR-CALNAME:Octubre Centre de Cultura Contemporània
X-ORIGINAL-URL:https://octubre.cat
X-WR-CALDESC:Events for Octubre Centre de Cultura Contemporània
BEGIN:VTIMEZONE
TZID:Europe/Andorra
BEGIN:DAYLIGHT
TZOFFSETFROM:+0100
TZOFFSETTO:+0200
TZNAME:CEST
DTSTART:20140330T010000
END:DAYLIGHT
BEGIN:STANDARD
TZOFFSETFROM:+0200
TZOFFSETTO:+0100
TZNAME:CET
DTSTART:20141026T010000
END:STANDARD
END:VTIMEZONE
BEGIN:VEVENT
DTSTART;TZID=Europe/Andorra:20141120T000000
DTEND;TZID=Europe/Andorra:20141123T000000
DTSTAMP:20260421T032723
CREATED:20200729T170748Z
LAST-MODIFIED:20200730T041254Z
UID:9973-1416441600-1416700800@octubre.cat
SUMMARY:2a Plaça del Llibre
DESCRIPTION:Del 20 al 23 de novembre. Fira del llibre en català organitzada per Acció Cultural del País Valencià\, l’Associació d’Editors del País Valencià\, l’Associació d’Escriptors en Llengua Catalana i el Gremi de Llibrers de València  \n  \n  \n\n Per segon any\, Acció Cultural del País Valencià\, l’Associació d’Editors del País Valencià\, l’Associació d’Escriptors en Llengua Catalana i el Gremi de Llibrers de València s’han unit per dissenyar i impulsar una iniciativa conjunta per promoure la nostra cultura i el foment de la lectura: la Plaça del Llibre i la Setmana dels Escriptors a les Llibreries.  La iniciativa va partir d’una doble condició. Primer\, del compromís de les quatre entitats impulsores amb la cultura i la llengua en general\, i amb la cultura escrita i el llibre en particular; segon\, de la necessitat de fer front al context de crisi econòmica (que tant afecta a la cultura) mitjançant la col·laboració\, la generositat i la suma de sinèrgies. En aquest sentit\, les quatre entitats han destacat la voluntat de treballar plegades amb un protagonisme col·lectiu i des de l’ambició de sumar.   Fira de llibres\, contacontes\, presentacions\, lectures dramatitzades\, recitals poètics\, homenatges\, etc.  PROGRAMA COMPLET EN AQUEST ENLLAÇ
URL:https://octubre.cat/activitat/2a-placa-del-llibre/
LOCATION:No definit
CATEGORIES:Literatura
ATTACH;FMTTYPE=image/jpeg:https://octubre.cat/www/wp-content/uploads/2020/07/activitat2184.jpg
END:VEVENT
END:VCALENDAR