BEGIN:VCALENDAR
VERSION:2.0
PRODID:-//Octubre Centre de Cultura Contemporània - ECPv5.1.6//NONSGML v1.0//EN
CALSCALE:GREGORIAN
METHOD:PUBLISH
X-WR-CALNAME:Octubre Centre de Cultura Contemporània
X-ORIGINAL-URL:https://octubre.cat
X-WR-CALDESC:Events for Octubre Centre de Cultura Contemporània
BEGIN:VTIMEZONE
TZID:Europe/Andorra
BEGIN:DAYLIGHT
TZOFFSETFROM:+0100
TZOFFSETTO:+0200
TZNAME:CEST
DTSTART:20160327T010000
END:DAYLIGHT
BEGIN:STANDARD
TZOFFSETFROM:+0200
TZOFFSETTO:+0100
TZNAME:CET
DTSTART:20161030T010000
END:STANDARD
END:VTIMEZONE
BEGIN:VEVENT
DTSTART;TZID=Europe/Andorra:20160524T190000
DTEND;TZID=Europe/Andorra:20160524T190000
DTSTAMP:20260421T152014
CREATED:20200729T171858Z
LAST-MODIFIED:20200729T185522Z
UID:10686-1464116400-1464116400@octubre.cat
SUMMARY:24M. Un any de municipalisme confluent: balanç i reptes de futur
DESCRIPTION:Dimarts 24 de maig a les 19.00h. Organitzat per Lligams d’Esquerres.  \n  \n  \n\n Hi participaran:  ROSA PÉREZ. Regidora de Guanyem Catarroja i Diputada provincial d’EUPV. SERGI CAMPILLO. Regidor de Compromís i portaveu d’Iniciativa València. NAIARA DAVÓ. Regidora de Guanyar Alcoi i membre de Podem.  NAHUEL GONZÁLEZ. Regidor de Més Gandia i membre d’EUPV. Presenta ESTHER LÓPEZ BARCELÓ. Ex Diputada d’EUPV a Les Corts.  Organitzat per Lligams d’Esquerres.
URL:https://octubre.cat/activitat/24m-un-any-de-municipalisme-confluent-balanc-i-reptes-de-futur/
LOCATION:Sala d’actes
CATEGORIES:Conferències i congressos
ATTACH;FMTTYPE=image/jpeg:https://octubre.cat/www/wp-content/uploads/2020/07/activitat2596.jpg
END:VEVENT
END:VCALENDAR