BEGIN:VCALENDAR
VERSION:2.0
PRODID:-//Octubre Centre de Cultura Contemporània - ECPv5.1.6//NONSGML v1.0//EN
CALSCALE:GREGORIAN
METHOD:PUBLISH
X-WR-CALNAME:Octubre Centre de Cultura Contemporània
X-ORIGINAL-URL:https://octubre.cat
X-WR-CALDESC:Events for Octubre Centre de Cultura Contemporània
BEGIN:VTIMEZONE
TZID:Europe/Andorra
BEGIN:DAYLIGHT
TZOFFSETFROM:+0100
TZOFFSETTO:+0200
TZNAME:CEST
DTSTART:20180325T010000
END:DAYLIGHT
BEGIN:STANDARD
TZOFFSETFROM:+0200
TZOFFSETTO:+0100
TZNAME:CET
DTSTART:20181028T010000
END:STANDARD
END:VTIMEZONE
BEGIN:VEVENT
DTSTART;TZID=Europe/Andorra:20181027T170000
DTEND;TZID=Europe/Andorra:20181027T170000
DTSTAMP:20260422T231431
CREATED:20200729T173158Z
LAST-MODIFIED:20200729T190950Z
UID:11302-1540659600-1540659600@octubre.cat
SUMMARY:"20-S"\, de Lluís Arcarazo i Jaume Roures
DESCRIPTION:Dissabte 27 d’octubre a les 17.00h. Projecció inclosa en el Festival de Cinema Ciutadà Compromès 2018. Assistència prèvia reserva.	 \n  \n  \n\n 	 En la presentació intervindran Marià de Delàs (periodista del diari Públic)\, Lluís Llach i Jaume Alonso-Cuevillas (advocat de Carles Puigdemont).  Reconstrucció minuciosa\, a través del relat dels propis protagonistes\, dels fets que van ocórrer en la Conselleria d’Economia i Hisenda\, en la seu de la CUP i en els carrers de Barcelona\, el dia 20 de setembre de 2017.  Direcció: Lluís Aracarazo i Jaume Roures (2018) Guió: Lluís Arcarazo Música: Xavier Capellas Producció: Mediapro Durada: 58’  Assistència prèvia reserva  — Festival de Cinema Ciutadà Compromès 2018 Organitza: ACICOM Col·laboren: Generalitat Valenciana\, Institut Valencià de Cultura\, Ajuntament de València\, Acció Cultural del País Valencià.
URL:https://octubre.cat/activitat/20-s-de-lluis-arcarazo-i-jaume-roures/
LOCATION:Sala d’actes
CATEGORIES:Festival de Cinema Ciutadà Compromès
ATTACH;FMTTYPE=image/jpeg:https://octubre.cat/www/wp-content/uploads/2020/07/activitat3140.jpg
END:VEVENT
END:VCALENDAR