BEGIN:VCALENDAR
VERSION:2.0
PRODID:-//Octubre Centre de Cultura Contemporània - ECPv5.1.6//NONSGML v1.0//EN
CALSCALE:GREGORIAN
METHOD:PUBLISH
X-WR-CALNAME:Octubre Centre de Cultura Contemporània
X-ORIGINAL-URL:https://octubre.cat
X-WR-CALDESC:Events for Octubre Centre de Cultura Contemporània
BEGIN:VTIMEZONE
TZID:Europe/Andorra
BEGIN:DAYLIGHT
TZOFFSETFROM:+0100
TZOFFSETTO:+0200
TZNAME:CEST
DTSTART:20180325T010000
END:DAYLIGHT
BEGIN:STANDARD
TZOFFSETFROM:+0200
TZOFFSETTO:+0100
TZNAME:CET
DTSTART:20181028T010000
END:STANDARD
END:VTIMEZONE
BEGIN:VEVENT
DTSTART;TZID=Europe/Andorra:20180928T183000
DTEND;TZID=Europe/Andorra:20180928T183000
DTSTAMP:20260423T084325
CREATED:20200729T173126Z
LAST-MODIFIED:20200729T190924Z
UID:11268-1538159400-1538159400@octubre.cat
SUMMARY:16é Dia Internacional del Dret a Saber
DESCRIPTION:Divendres 28 de setembre a les 18.30h. Conferència “Quin Govern Obert?: El projecte de Llei de Govern Obert a debat”\, a càrrec de Belen Cardona\, Secretària Autonòmica de la Conselleria de Transparència. Organitzat per ACICOM amb la col·laboració d’ACPV.	 \n  \n  \n\n 	 Quin Govern Obert?: El projecte de Llei de Govern Obert a debat  Participen: Belen Cardona Rubert\, Secretària Autonòmica de la Conselleria de Transparència Conversa Oberta amb representants d’organitzacions ciutadanes i les persones assistents   Activitat fora de l’Octubre CCC:  Dilluns 1 d’octubre del 2018\, 18:30 h. Aula Magna de la Universitat de València (Edifici La NAU)  Rendició de comptes dels programes electorals del Pacte del Botànic: L’Índex d’apoderament de les mesures i estat de la seua implantació tres anys després.  Participen: –Manuel Mata Gómez\, Vicesecretari General PSPV-PSOE I Síndic Portaveu del Grup Socialista en Les Corts –Àgueda Micó i Micó\, Coordinadora Nacional del BLOC i Co-Portaveu de la Coalició Compromís –Fabiola Meco Tèbar\, Consell Ciutadà Autonòmic PODEM i Viceportaveu del Grup Podem en les Corts de PODEM  — Organitzat per ACICOM amb la col·laboració d’Acció Cultural del País Valencià Inscripció en aquest formulari.
URL:https://octubre.cat/activitat/16e-dia-internacional-del-dret-a-saber/
CATEGORIES:Conferències i congressos
ATTACH;FMTTYPE=image/jpeg:https://octubre.cat/www/wp-content/uploads/2020/07/activitat3107.jpg
END:VEVENT
END:VCALENDAR