BEGIN:VCALENDAR
VERSION:2.0
PRODID:-//Octubre Centre de Cultura Contemporània - ECPv5.1.6//NONSGML v1.0//EN
CALSCALE:GREGORIAN
METHOD:PUBLISH
X-WR-CALNAME:Octubre Centre de Cultura Contemporània
X-ORIGINAL-URL:https://octubre.cat
X-WR-CALDESC:Events for Octubre Centre de Cultura Contemporània
BEGIN:VTIMEZONE
TZID:Europe/Andorra
BEGIN:DAYLIGHT
TZOFFSETFROM:+0100
TZOFFSETTO:+0200
TZNAME:CEST
DTSTART:20190331T010000
END:DAYLIGHT
BEGIN:STANDARD
TZOFFSETFROM:+0200
TZOFFSETTO:+0100
TZNAME:CET
DTSTART:20191027T010000
END:STANDARD
END:VTIMEZONE
BEGIN:VEVENT
DTSTART;TZID=Europe/Andorra:20191128T190000
DTEND;TZID=Europe/Andorra:20191128T190000
DTSTAMP:20260423T015727
CREATED:20200729T173605Z
LAST-MODIFIED:20200729T191252Z
UID:11573-1574967600-1574967600@octubre.cat
SUMMARY:15è Databeers VLC
DESCRIPTION:Dijous 28 de novembre a les 19.00h. Una iniciativa per a comunicar i difondre els beneficis i avanços en el camp de la ciència de dades d’una manera relaxada i divertida\, i amb una cervesa a la mà. Assistència per inscripció.	 \n  \n  \n\n 	 Databeers València (@databeersvlc) és una iniciativa per a comunicar i difondre els beneficis i avanços en el camp de la ciència de dades d’una manera relaxada i divertida\, i amb una cervesa a la mà.  El programa de ponències és el següent:  * Comunicar dades en l’era de las fake news    Germán Molina Pardo (Dataly)  * Quant és MOLT gran?    Marta Pla + Irene Ferrando (Universitat de València)  * Parlem de les vostres M…    Ricardo Gasperini (Somdata)  * Una bestialitat de dades: desenvolupant tecnologia per animals    Patrícia Pons (Institut Tecnològic d’Informàtica)  Inscripció gratuïta + consumició de cortesia en aquest formulari.  — Ho organitzen el col·lectiu Databeers VLC\, l’Espai Ciència de l’Octubre CCC i l’Escola Tècnica Superior d’Enginyeria (ETSE-UV) de la Universitat de València
URL:https://octubre.cat/activitat/15e-databeers-vlc/
LOCATION:Cafeteria
CATEGORIES:DataBeers
ATTACH;FMTTYPE=image/jpeg:https://octubre.cat/www/wp-content/uploads/2020/07/activitat3373.jpg
END:VEVENT
END:VCALENDAR