BEGIN:VCALENDAR
VERSION:2.0
PRODID:-//Octubre Centre de Cultura Contemporània - ECPv5.1.6//NONSGML v1.0//EN
CALSCALE:GREGORIAN
METHOD:PUBLISH
X-WR-CALNAME:Octubre Centre de Cultura Contemporània
X-ORIGINAL-URL:https://octubre.cat
X-WR-CALDESC:Events for Octubre Centre de Cultura Contemporània
BEGIN:VTIMEZONE
TZID:Europe/Andorra
BEGIN:DAYLIGHT
TZOFFSETFROM:+0100
TZOFFSETTO:+0200
TZNAME:CEST
DTSTART:20190331T010000
END:DAYLIGHT
BEGIN:STANDARD
TZOFFSETFROM:+0200
TZOFFSETTO:+0100
TZNAME:CET
DTSTART:20191027T010000
END:STANDARD
END:VTIMEZONE
BEGIN:VEVENT
DTSTART;TZID=Europe/Andorra:20190516T190000
DTEND;TZID=Europe/Andorra:20190516T190000
DTSTAMP:20260421T132110
CREATED:20200729T173356Z
LAST-MODIFIED:20200729T191130Z
UID:11425-1558033200-1558033200@octubre.cat
SUMMARY:12è Databeers VLC
DESCRIPTION:Dijous 16 de maig a les 19.00h. Brand event Quick Release_. Assistència per inscripció.	 \n  \n  \n\n 	 Branded event Quick Release_  Databeers València (@databeersvlc) és una iniciativa per a comunicar i difondre els beneficis i avanços en el camp de la ciència de dades d’una manera relaxada i divertida\, i amb una cervesa a la mà.  Inscripció gratuïta + consumició a través d’aquest formulari.   –Connectivitat\, evolució de les dades i interacció amb experts en producció. Francisco Marco (Faurecia).  Científic de dades en cap / Ciències del mar. Breu explicació dels reptes d’un científic de dades en el sector de l’automoció en el món de la indústria 4.0.  –El cost de la gestió de canvis en el desenvolupament de vehicles. Bárbara Poblano (Quick Release_). Analista sènior / Enginyeria Química. Presa de decisions basada en dades\, processos\, causes i resultats de la gestió de canvis en el desenvolupament de vehicles.  –Gestió de dades en el món de la producció additiva. Rob Amissah (Quick Release_). Analista de projectes / Enginyeria Química. Les tècniques de producció additiva generen una gran quantitat de dades que cal gestionar tan eficientment com siga possible.  –Anàlisi de dades de neutrins: un portal cap a noves teories. Mariam Tórtola (IFIC-UV-CSIC). Investigadora / Física. La simulació i l’anàlisi estadístic de dades experimentals ens ajuden a comprendre les propietats dels neutrins i a buscar noves teories que completen la nostra comprensió de l’univers.  — Ho organitzen el col·lectiu Databeers VLC\, l’Escola Tècnica Superior d’Enginyera (ETSE-UV) i Quick Release_ amb la col·laboració de l’Espai Ciència de l’Octubre CCC / Institut d’Estudis Catalans.
URL:https://octubre.cat/activitat/12e-databeers-vlc/
LOCATION:Cafeteria
CATEGORIES:DataBeers
ATTACH;FMTTYPE=image/jpeg:https://octubre.cat/www/wp-content/uploads/2020/07/activitat3270.jpg
END:VEVENT
END:VCALENDAR