BEGIN:VCALENDAR
VERSION:2.0
PRODID:-//Octubre Centre de Cultura Contemporània - ECPv5.1.6//NONSGML v1.0//EN
CALSCALE:GREGORIAN
METHOD:PUBLISH
X-WR-CALNAME:Octubre Centre de Cultura Contemporània
X-ORIGINAL-URL:https://octubre.cat
X-WR-CALDESC:Events for Octubre Centre de Cultura Contemporània
BEGIN:VTIMEZONE
TZID:Europe/Andorra
BEGIN:DAYLIGHT
TZOFFSETFROM:+0100
TZOFFSETTO:+0200
TZNAME:CEST
DTSTART:20080330T010000
END:DAYLIGHT
BEGIN:STANDARD
TZOFFSETFROM:+0200
TZOFFSETTO:+0100
TZNAME:CET
DTSTART:20081026T010000
END:STANDARD
END:VTIMEZONE
BEGIN:VEVENT
DTSTART;TZID=Europe/Andorra:20080306T200000
DTEND;TZID=Europe/Andorra:20080306T200000
DTSTAMP:20260420T221120
CREATED:20200729T181746Z
LAST-MODIFIED:20200730T035642Z
UID:12506-1204833600-1204833600@octubre.cat
SUMMARY:121DB
DESCRIPTION:Dijous\, 20.00h. 121DB (cent vint-i-un decibels) és un grup nascut a la ciutat de València l’any 2004. Han estat finalistes del II Tirant de Rock de las Marina i guanyadors del VII Circuit de Música en Valencià que organitza el Consell de la Joventut de València. Ara és arribat el moment de presentar el seu primer disc\, Equilàter.   \n  \n  \n\n121DB (cent vint-i-un decibels) és un grup nascut a la ciutat de València l’any 2004. L’octubre de 2005 van presentar la seua primer maqueta\, Somnis rebels. Un any més tard va aparéixer el seu primer EP\, Canvis i conseqüències. Han estat finalistes del II Tirant de Rock de las Marina i guanyadors del VII Circuit de Música en Valencià que organitza el Consell de la Joventut de València. També han obtingut el Premi Ovidi Montllor del Col·lectiu de Músics i Cantants en Valencià i han arribat a les semifinals del concurs Sona9. Ara és arribat el moment de presentar el seu primer disc\, Equilàter.
URL:https://octubre.cat/activitat/121db/
LOCATION:No definit
CATEGORIES:Cicle de música pop
ATTACH;FMTTYPE=image/jpeg:https://octubre.cat/www/wp-content/uploads/2020/07/musica1.jpg
END:VEVENT
END:VCALENDAR