BEGIN:VCALENDAR
VERSION:2.0
PRODID:-//Octubre Centre de Cultura Contemporània - ECPv5.1.6//NONSGML v1.0//EN
CALSCALE:GREGORIAN
METHOD:PUBLISH
X-WR-CALNAME:Octubre Centre de Cultura Contemporània
X-ORIGINAL-URL:https://octubre.cat
X-WR-CALDESC:Events for Octubre Centre de Cultura Contemporània
BEGIN:VTIMEZONE
TZID:Europe/Andorra
BEGIN:DAYLIGHT
TZOFFSETFROM:+0100
TZOFFSETTO:+0200
TZNAME:CEST
DTSTART:20120325T010000
END:DAYLIGHT
BEGIN:STANDARD
TZOFFSETFROM:+0200
TZOFFSETTO:+0100
TZNAME:CET
DTSTART:20121028T010000
END:STANDARD
END:VTIMEZONE
BEGIN:VEVENT
DTSTART;TZID=Europe/Andorra:20120414T140000
DTEND;TZID=Europe/Andorra:20120414T140000
DTSTAMP:20260420T230841
CREATED:20200729T165723Z
LAST-MODIFIED:20200730T042948Z
UID:9346-1334412000-1334412000@octubre.cat
SUMMARY:12 hores de cançó improvisada
DESCRIPTION:Dissabte 14 d’abril\, a les 14.00h. Inici a l’Octubre CCC i itinerància per la Societat Coral el Micalet\, El Racó de la Corbella\, Bar el Cuento\, La Minúscula i Ca Revolta.   \n  \n  \n\nDesprés de les edicions celebrades a Palma\, Ferreries i Berga\, arriba a València la trobada de cançó improvisada dels Països Catalans\, amb cantadors de tots els estils: albades\, corrandes\, garrotins\, combat de gloses\, cant d’estil…  Inici a l’Octubre Centre de Cultura Contemporània a les 14.00h i finalització a Ca Revolta a les 3.00h  Llocs de les imporvisacions: -Octubre CCC (Sant Ferran\, 12) –Societat Coral el Micalet (Guillem de Castro\, 75) –El Racó de la Corbella (Maldonado\, 39) -Bar El Cuento (Murillo\, 31) –La Minúscula (Villena\, 13) –Ca Revolta (Santa Teresa\, 10)  Organitzat per Musit i Cor de Carxofa amb la col·laboració de l’Octubre CCC.  Informacions pràctiques: Alberg Ciutat de València: 16 euros Dinar a l’Octubre CCC (menú): 13 euros Sopar a Ca Revolta (entrepans especials + acompanyament + beguda): 12 euros Reserves i informació: Christian Simelio (627628918\, csimsol@hotmail.com)
URL:https://octubre.cat/activitat/12-hores-de-canco-improvisada/
LOCATION:No definit
CATEGORIES:Literatura
ATTACH;FMTTYPE=image/jpeg:https://octubre.cat/www/wp-content/uploads/2020/07/activitat1589.jpg
END:VEVENT
END:VCALENDAR