BEGIN:VCALENDAR
VERSION:2.0
PRODID:-//Octubre Centre de Cultura Contemporània - ECPv5.1.6//NONSGML v1.0//EN
CALSCALE:GREGORIAN
METHOD:PUBLISH
X-WR-CALNAME:Octubre Centre de Cultura Contemporània
X-ORIGINAL-URL:https://octubre.cat
X-WR-CALDESC:Events for Octubre Centre de Cultura Contemporània
BEGIN:VTIMEZONE
TZID:Europe/Andorra
BEGIN:DAYLIGHT
TZOFFSETFROM:+0100
TZOFFSETTO:+0200
TZNAME:CEST
DTSTART:20090329T010000
END:DAYLIGHT
BEGIN:STANDARD
TZOFFSETFROM:+0200
TZOFFSETTO:+0100
TZNAME:CET
DTSTART:20091025T010000
END:STANDARD
END:VTIMEZONE
BEGIN:VEVENT
DTSTART;TZID=Europe/Andorra:20090126T000000
DTEND;TZID=Europe/Andorra:20090131T000000
DTSTAMP:20260420T160525
CREATED:20200729T182254Z
LAST-MODIFIED:20200729T182254Z
UID:12736-1232928000-1233360000@octubre.cat
SUMMARY:12 festival Nits d'Aielo i Art (en l'exili)
DESCRIPTION:Del dilluns 26 al dissabte 31 de gener. Sessions a l’Octubre CCC i a l’Institut Français de València  \n  \n  \n\n12 edició. 26\, 27\, 28\, 29\, 30 i 31 de gener 2009  Organitza: Festival d’Aielo i Art Col·laboren: Octubre CCC i Institu Français València   PROGRAMA  Dilluns 26 Octubre CCC 22.15h. Instantaneïtats i improvisos: Col·lectiu “María la Perdiz” Saxo soprano\, percussió: Chefa Alonso (Madrid). Vídeo\, violoncel: Bárbara Meyer (Londres). Dansa: Raquel Sánchez (Madrid). Veu: Anna Subirana (Sitges).  Dimarts 27 Octubre CCC 22.15h. Una música a l’ombra de Cage: De Irregularis Daniel Charles Orchestra de València  Dimecres 28 Octubre CCC 22.15h.  Músiques electroacústiques: Inmaculada Cárdenas (cinta pregravada / Lugo). “Coser y cantar. Un  duo para Singer y voz”\, de Montserrat Palacios (veu i màquina de cosir / Mèxic DF – València)  Dijous 29 Octubre CCC 22.15h.  “Sade\, de Rerum Naturae”. Concepte i selecció de textos: Cristina Casanova (Lleida). Música: Pelayo Arrizabalaga (Zurich) i C.Casanova. Il·luminació: Marta Alemany (Barcelona). Performer: Andrea Contino (Roma).  Divendres 30 Institut Français València 20.00h. Grup Instrumental Valencià. Director: Joan Cerveró. 22.15h. -“Gabal-Donna & Guassa”\, per Ángeles Gabaldón i DJ Guassa. -“Els bucles del so”\, del grup Cuneta (Alba García i Vicente Pelechano / València)  -Vídeos i presentación del LadyFest Sur per Marta G. Franco (Sevilla) -“Trivalencia” d’Esther Xargay y Mercé Capdevilla. (Barcelona) -“Drums\, desire”.de Bárbara Held -Projecció de vídeos del Festival VIVA  Dissabte 31 Octubre CCC 20.00h. “De la feble feblesa”\, per Anna Rubirola i Maria Montseny (Barcelona). Dansa.   Institut Français València 22.15h  -Projecció de vídeos del Festival VIVA -Mariona Sagarra (Barcelona) -Roxana Popelka  i María Salgado (Astúries) -Ridina Ahmedová (Praga) -“54 Géneros”\, de Miguel Benlloch (Sevilla) -Lliurament del “Premi Cura Castillejo al propondre més foragitat\, 2on any”. Cerimònia de lliurament a càrrec de Fàtima Miranda  -“O de lo crudo y lo cocido\, lo naif y lo conceptual”\, de Don Simón i Telefunken (Doña Simona i Telefunka / Tarragona)  Octubre CCC Durant tota la setmana: instal·lació de l’escultora Fuencisla Francés
URL:https://octubre.cat/activitat/12-festival-nits-daielo-i-art-en-lexili/
LOCATION:No definit
CATEGORIES:Música
ATTACH;FMTTYPE=image/jpeg:https://octubre.cat/www/wp-content/uploads/2020/07/activitat758.jpg
END:VEVENT
END:VCALENDAR