BEGIN:VCALENDAR
VERSION:2.0
PRODID:-//Octubre Centre de Cultura Contemporània - ECPv5.1.6//NONSGML v1.0//EN
CALSCALE:GREGORIAN
METHOD:PUBLISH
X-WR-CALNAME:Octubre Centre de Cultura Contemporània
X-ORIGINAL-URL:https://octubre.cat
X-WR-CALDESC:Events for Octubre Centre de Cultura Contemporània
BEGIN:VTIMEZONE
TZID:Europe/Andorra
BEGIN:DAYLIGHT
TZOFFSETFROM:+0100
TZOFFSETTO:+0200
TZNAME:CEST
DTSTART:20150329T010000
END:DAYLIGHT
BEGIN:STANDARD
TZOFFSETFROM:+0200
TZOFFSETTO:+0100
TZNAME:CET
DTSTART:20151025T010000
END:STANDARD
END:VTIMEZONE
BEGIN:VEVENT
DTSTART;TZID=Europe/Andorra:20150130T000000
DTEND;TZID=Europe/Andorra:20150131T000000
DTSTAMP:20260422T044040
CREATED:20200729T170911Z
LAST-MODIFIED:20200730T041353Z
UID:10060-1422576000-1422662400@octubre.cat
SUMMARY:11é Congrés Lambda
DESCRIPTION:Divendres 30 i dissabte 31 de gener. Congrés organitzat per Lambda (col·lectiu de lesbianes\, gais\, transsexuals i bisexuals) amb la col·laboració de l’Octubre CCC  \n  \n  \n\n Lambda – col·lectiu de lesbianes\, gais\, transsexuals i bisexuals\, celebrarà el seu 11é Congrés a l’Octubre Centre de Cultura Contemporània\, sota el lema “Unint forces\, connectant lluites”.  L’acte inaugural tindrà lloc el divendres 30 de gener a les 19:30 hores i en aquest participaran representants de diferents associacions\, moviments socials\, partits polítics i sindicats\, als quals ens sumarem des del propi OCCC i des d’Acció Cultural del País Valencià.  La jornada del dissabte es dedicarà a debatre –entre el voluntariat i les persones sòcies de l’associació– les línies polítiques que marcaran les acciones de Lambda durant els pròxims dos anys\, a més de decidir la nova executiva que dirigirà l’associació durant aquest període.  Des de Lambda desitgen que\, tal i com diu el lema del congrés\, es puguen sumar els diferents moviments socials a la lluita pels drets de les persones LGTB\, que malgrat els avanços legals\, segueixen sent un col·lectiu força discriminat.
URL:https://octubre.cat/activitat/11e-congres-lambda/
LOCATION:Sala d’actes
CATEGORIES:Conferències i congressos
ATTACH;FMTTYPE=image/jpeg:https://octubre.cat/www/wp-content/uploads/2020/07/activitat2261.jpg
END:VEVENT
END:VCALENDAR