BEGIN:VCALENDAR
VERSION:2.0
PRODID:-//Octubre Centre de Cultura Contemporània - ECPv5.1.6//NONSGML v1.0//EN
CALSCALE:GREGORIAN
METHOD:PUBLISH
X-WR-CALNAME:Octubre Centre de Cultura Contemporània
X-ORIGINAL-URL:https://octubre.cat
X-WR-CALDESC:Events for Octubre Centre de Cultura Contemporània
BEGIN:VTIMEZONE
TZID:Europe/Andorra
BEGIN:DAYLIGHT
TZOFFSETFROM:+0100
TZOFFSETTO:+0200
TZNAME:CEST
DTSTART:20180325T010000
END:DAYLIGHT
BEGIN:STANDARD
TZOFFSETFROM:+0200
TZOFFSETTO:+0100
TZNAME:CET
DTSTART:20181028T010000
END:STANDARD
END:VTIMEZONE
BEGIN:VEVENT
DTSTART;TZID=Europe/Andorra:20181128T190000
DTEND;TZID=Europe/Andorra:20181128T190000
DTSTAMP:20260421T204517
CREATED:20200729T173216Z
LAST-MODIFIED:20200729T191005Z
UID:11321-1543431600-1543431600@octubre.cat
SUMMARY:10è Databeers VLC
DESCRIPTION:Dimecres 28 de novembre a les 19.00h. Una iniciativa per a comunicar i difondre els beneficis i avanços en el camp de la ciència de dades d’una manera relaxada i divertida\, i amb una cervesa a la mà. Assistència per inscripció	 \n  \n  \n\n 	 Databeers València (@databeersvlc) és una iniciativa per a comunicar i difondre els beneficis i avanços en el camp de la ciència de dades d’una manera relaxada i divertida\, i amb una cervesa a la mà.  * Infografia 2.0 Patricia Cabezuelo (Las Provincias / Universitat de València)  * Diferències de gènere en salut i big data Paco García (Centre d’Investigació Príncep Felip)  * Com l’exposició a la contaminació atmosfèrica pot afectar a la salut infantil Marisa Estarlich (FISABIO / CIBERESP / Universitat de València)  * IoT: un cavall de Troia per Nadal Jesús Soret (Universitat de València)   ASSISTÈNCIA per inscripció gratuïta + cervesa de cortesia a través d’aquest formulari.  — Ho organitzen el col·lectiu Databeers VLC\, l’Espai Ciència d’Acció Cultural del País Valencià i l’Escola Tècnica Superior d’Enginyeria (ETSE-UV) de la Universitat de València
URL:https://octubre.cat/activitat/10e-databeers-vlc/
LOCATION:Cafeteria
CATEGORIES:DataBeers
ATTACH;FMTTYPE=image/jpeg:https://octubre.cat/www/wp-content/uploads/2020/07/activitat3159.jpg
END:VEVENT
END:VCALENDAR