BEGIN:VCALENDAR
VERSION:2.0
PRODID:-//Octubre Centre de Cultura Contemporània - ECPv5.1.6//NONSGML v1.0//EN
CALSCALE:GREGORIAN
METHOD:PUBLISH
X-WR-CALNAME:Octubre Centre de Cultura Contemporània
X-ORIGINAL-URL:https://octubre.cat
X-WR-CALDESC:Events for Octubre Centre de Cultura Contemporània
BEGIN:VTIMEZONE
TZID:Europe/Andorra
BEGIN:DAYLIGHT
TZOFFSETFROM:+0100
TZOFFSETTO:+0200
TZNAME:CEST
DTSTART:20130331T010000
END:DAYLIGHT
BEGIN:STANDARD
TZOFFSETFROM:+0200
TZOFFSETTO:+0100
TZNAME:CET
DTSTART:20131027T010000
END:STANDARD
END:VTIMEZONE
BEGIN:VEVENT
DTSTART;TZID=Europe/Andorra:20130201T000000
DTEND;TZID=Europe/Andorra:20130202T000000
DTSTAMP:20260421T084858
CREATED:20200729T165924Z
LAST-MODIFIED:20200729T184015Z
UID:9468-1359676800-1359763200@octubre.cat
SUMMARY:10é Congrés Lambda
DESCRIPTION:Divendres 1 i dissabte 2 de febrer: 10é Congrés Lambda “Fent els somnis realitat”  \n  \n  \n\nOrganitzat pel Col·lectiu Lambda – València
URL:https://octubre.cat/activitat/10e-congres-lambda/
LOCATION:No definit
CATEGORIES:Conferències i congressos
ATTACH;FMTTYPE=image/jpeg:https://octubre.cat/www/wp-content/uploads/2020/07/activitat1718.jpg
END:VEVENT
END:VCALENDAR